BEGIN:VCALENDAR
VERSION:2.0
PRODID:-//haven.firespring.org//NONSGML kigkonsult.se iCalcreator 2.30.10//
CALSCALE:GREGORIAN
METHOD:PUBLISH
UID:c3a6e714-72db-459a-8263-e1916e3209e7
X-WR-CALDESC:Monthly Board Meeting
X-WR-RELCALID:73e80f482bcd37238ea9fbbab21dd75d
X-WR-TIMEZONE:America/Chicago
BEGIN:VTIMEZONE
TZID:America/Chicago
BEGIN:STANDARD
TZNAME:CST
DTSTART:20261101T020000
TZOFFSETFROM:-0500
TZOFFSETTO:-0600
RDATE:20271107T020000
END:STANDARD
BEGIN:DAYLIGHT
TZNAME:CDT
DTSTART:20260308T020000
TZOFFSETFROM:-0600
TZOFFSETTO:-0500
RDATE:20270314T020000
RDATE:20280312T020000
END:DAYLIGHT
END:VTIMEZONE
BEGIN:VEVENT
UID:887c63f4-7204-4923-ad6f-7f19877275f8
DTSTAMP:20260423T135356Z
DESCRIPTION:Monthly Board Meeting
DTSTART;TZID=America/Chicago:20261204T183000
DTEND;TZID=America/Chicago:20261204T200000
LOCATION:Atrium Meeting Room
SUMMARY:Board Meeting
END:VEVENT
END:VCALENDAR
