BEGIN:VCALENDAR
VERSION:2.0
PRODID:-//haven.firespring.org//NONSGML kigkonsult.se iCalcreator 2.30.10//
CALSCALE:GREGORIAN
METHOD:PUBLISH
UID:739f6eae-c08d-4743-b960-07fb29b1fb2e
X-WR-CALDESC:Monthly Board Meeting
X-WR-RELCALID:2e804dcd02dd6c2d6ab30f40915dd6b2
X-WR-TIMEZONE:America/Chicago
BEGIN:VTIMEZONE
TZID:America/Chicago
BEGIN:STANDARD
TZNAME:CST
DTSTART:20251102T020000
TZOFFSETFROM:-0500
TZOFFSETTO:-0600
RDATE:20261101T020000
RDATE:20271107T020000
END:STANDARD
BEGIN:DAYLIGHT
TZNAME:CDT
DTSTART:20260308T020000
TZOFFSETFROM:-0600
TZOFFSETTO:-0500
RDATE:20270314T020000
END:DAYLIGHT
END:VTIMEZONE
BEGIN:VEVENT
UID:5458aefa-0d7a-459e-a4e1-9910d9af4580
DTSTAMP:20260423T081624Z
DESCRIPTION:Monthly Board Meeting
DTSTART;TZID=America/Chicago:20260807T183000
DTEND;TZID=America/Chicago:20260807T200000
LOCATION:Atrium Meeting Room
SUMMARY:Board Meeting
END:VEVENT
END:VCALENDAR
