BEGIN:VCALENDAR
VERSION:2.0
PRODID:-//haven.firespring.org//NONSGML kigkonsult.se iCalcreator 2.30.10//
CALSCALE:GREGORIAN
METHOD:PUBLISH
UID:cbe991da-52c6-4382-8a70-e963117253d3
X-WR-CALDESC:Monthly Board Meeting
X-WR-RELCALID:bd461906f89d3e45741388d7bfa0a574
X-WR-TIMEZONE:America/Chicago
BEGIN:VTIMEZONE
TZID:America/Chicago
BEGIN:STANDARD
TZNAME:CST
DTSTART:20251102T020000
TZOFFSETFROM:-0500
TZOFFSETTO:-0600
RDATE:20261101T020000
RDATE:20271107T020000
END:STANDARD
BEGIN:DAYLIGHT
TZNAME:CDT
DTSTART:20260308T020000
TZOFFSETFROM:-0600
TZOFFSETTO:-0500
RDATE:20270314T020000
END:DAYLIGHT
END:VTIMEZONE
BEGIN:VEVENT
UID:d90c6725-6ced-4930-8ca8-eac2b2fe6c81
DTSTAMP:20260423T065412Z
DESCRIPTION:Monthly Board Meeting
DTSTART;TZID=America/Chicago:20260703T183000
DTEND;TZID=America/Chicago:20260703T200000
LOCATION:Atrium Meeting Room
SUMMARY:Board Meeting
END:VEVENT
END:VCALENDAR
