BEGIN:VCALENDAR
VERSION:2.0
PRODID:-//haven.firespring.org//NONSGML kigkonsult.se iCalcreator 2.30.10//
CALSCALE:GREGORIAN
METHOD:PUBLISH
UID:baa00b52-4b4c-4422-8128-498b98e5c66b
X-WR-CALDESC:Monthly Board Meeting
X-WR-RELCALID:dd549ed30451af0eca048e6f383b8425
X-WR-TIMEZONE:America/Chicago
BEGIN:VTIMEZONE
TZID:America/Chicago
BEGIN:STANDARD
TZNAME:CST
DTSTART:20251102T020000
TZOFFSETFROM:-0500
TZOFFSETTO:-0600
RDATE:20261101T020000
END:STANDARD
BEGIN:DAYLIGHT
TZNAME:CDT
DTSTART:20250309T020000
TZOFFSETFROM:-0600
TZOFFSETTO:-0500
RDATE:20260308T020000
RDATE:20270314T020000
END:DAYLIGHT
END:VTIMEZONE
BEGIN:VEVENT
UID:d6f1cf1e-22f0-4f4b-968b-257b46630a98
DTSTAMP:20260423T053248Z
DESCRIPTION:Monthly Board Meeting
DTSTART;TZID=America/Chicago:20260206T183000
DTEND;TZID=America/Chicago:20260206T200000
LOCATION:Atrium Meeting Room
SUMMARY:Board Meeting
END:VEVENT
END:VCALENDAR
