BEGIN:VCALENDAR
VERSION:2.0
PRODID:-//haven.firespring.org//NONSGML kigkonsult.se iCalcreator 2.30.10//
CALSCALE:GREGORIAN
METHOD:PUBLISH
UID:cd01da8e-9331-4dbf-95d5-71570ad59e73
X-WR-CALDESC:Monthly Board Meeting
X-WR-RELCALID:a5745b29bced7aadc6c244fd8b48fd51
X-WR-TIMEZONE:America/Chicago
BEGIN:VTIMEZONE
TZID:America/Chicago
BEGIN:STANDARD
TZNAME:CST
DTSTART:20251102T020000
TZOFFSETFROM:-0500
TZOFFSETTO:-0600
RDATE:20261101T020000
END:STANDARD
BEGIN:DAYLIGHT
TZNAME:CDT
DTSTART:20250309T020000
TZOFFSETFROM:-0600
TZOFFSETTO:-0500
RDATE:20260308T020000
RDATE:20270314T020000
END:DAYLIGHT
END:VTIMEZONE
BEGIN:VEVENT
UID:e528b68f-ec31-4477-a4e1-9f2fbfe5937f
DTSTAMP:20260423T070454Z
DESCRIPTION:Monthly Board Meeting
DTSTART;TZID=America/Chicago:20260102T183000
DTEND;TZID=America/Chicago:20260102T200000
LOCATION:Atrium Meeting Room
SUMMARY:Board Meeting
END:VEVENT
END:VCALENDAR
