BEGIN:VCALENDAR
VERSION:2.0
PRODID:-//haven.firespring.org//NONSGML kigkonsult.se iCalcreator 2.30.10//
CALSCALE:GREGORIAN
METHOD:PUBLISH
UID:4d12f206-5078-467a-8b97-28da50b1c6d3
X-WR-CALDESC:Monthly Board Meeting
X-WR-RELCALID:418ae901b9c1e4651e77851ba5da2c3b
X-WR-TIMEZONE:America/Chicago
BEGIN:VTIMEZONE
TZID:America/Chicago
BEGIN:STANDARD
TZNAME:CST
DTSTART:20251102T020000
TZOFFSETFROM:-0500
TZOFFSETTO:-0600
RDATE:20261101T020000
END:STANDARD
BEGIN:DAYLIGHT
TZNAME:CDT
DTSTART:20250309T020000
TZOFFSETFROM:-0600
TZOFFSETTO:-0500
RDATE:20260308T020000
RDATE:20270314T020000
END:DAYLIGHT
END:VTIMEZONE
BEGIN:VEVENT
UID:5abb9cf8-611c-4dff-bd7f-3e51fd919041
DTSTAMP:20260423T081703Z
DESCRIPTION:Monthly Board Meeting
DTSTART;TZID=America/Chicago:20251205T183000
DTEND;TZID=America/Chicago:20251205T200000
LOCATION:Atrium Meeting Room
SUMMARY:Board Meeting
END:VEVENT
END:VCALENDAR
