BEGIN:VCALENDAR
VERSION:2.0
PRODID:-//haven.firespring.org//NONSGML kigkonsult.se iCalcreator 2.30.10//
CALSCALE:GREGORIAN
METHOD:PUBLISH
UID:4dbe96f4-0f1b-478e-9aff-91009e4c660f
X-WR-CALDESC:Monthly Board Meeting
X-WR-RELCALID:972f58471d89cdbb1d3648b05be8aac8
X-WR-TIMEZONE:America/Chicago
BEGIN:VTIMEZONE
TZID:America/Chicago
BEGIN:STANDARD
TZNAME:CST
DTSTART:20241103T020000
TZOFFSETFROM:-0500
TZOFFSETTO:-0600
RDATE:20251102T020000
RDATE:20261101T020000
END:STANDARD
BEGIN:DAYLIGHT
TZNAME:CDT
DTSTART:20250309T020000
TZOFFSETFROM:-0600
TZOFFSETTO:-0500
RDATE:20260308T020000
END:DAYLIGHT
END:VTIMEZONE
BEGIN:VEVENT
UID:c8c94303-b844-4c36-97d3-a441786af995
DTSTAMP:20260423T121429Z
DESCRIPTION:Monthly Board Meeting
DTSTART;TZID=America/Chicago:20250905T183000
DTEND;TZID=America/Chicago:20250905T200000
LOCATION:Atrium Meeting Room
SUMMARY:Board Meeting
END:VEVENT
END:VCALENDAR
