BEGIN:VCALENDAR
VERSION:2.0
PRODID:-//haven.firespring.org//NONSGML kigkonsult.se iCalcreator 2.30.10//
CALSCALE:GREGORIAN
METHOD:PUBLISH
UID:7ab49cc1-e071-46b5-b587-b4e60175a208
X-WR-CALDESC:Monthly Board Meeting
X-WR-RELCALID:747d86ff1c07c85edc02221b2674a1b4
X-WR-TIMEZONE:America/Chicago
BEGIN:VTIMEZONE
TZID:America/Chicago
BEGIN:STANDARD
TZNAME:CST
DTSTART:20241103T020000
TZOFFSETFROM:-0500
TZOFFSETTO:-0600
RDATE:20251102T020000
RDATE:20261101T020000
END:STANDARD
BEGIN:DAYLIGHT
TZNAME:CDT
DTSTART:20250309T020000
TZOFFSETFROM:-0600
TZOFFSETTO:-0500
RDATE:20260308T020000
END:DAYLIGHT
END:VTIMEZONE
BEGIN:VEVENT
UID:740b7dcf-be84-4260-933c-af43adb70746
DTSTAMP:20260423T152140Z
DESCRIPTION:Monthly Board Meeting
DTSTART;TZID=America/Chicago:20250704T183000
DTEND;TZID=America/Chicago:20250704T200000
LOCATION:Atrium Meeting Room
SUMMARY:Board Meeting
END:VEVENT
END:VCALENDAR
