BEGIN:VCALENDAR
VERSION:2.0
PRODID:-//haven.firespring.org//NONSGML kigkonsult.se iCalcreator 2.30.10//
CALSCALE:GREGORIAN
METHOD:PUBLISH
UID:b2389d03-35d8-4d34-b69f-899772c468f2
X-WR-CALDESC:Monthly Board Meeting
X-WR-RELCALID:405c19b8de8b8d666114d93b023b243d
X-WR-TIMEZONE:America/Chicago
BEGIN:VTIMEZONE
TZID:America/Chicago
BEGIN:STANDARD
TZNAME:CST
DTSTART:20241103T020000
TZOFFSETFROM:-0500
TZOFFSETTO:-0600
RDATE:20251102T020000
RDATE:20261101T020000
END:STANDARD
BEGIN:DAYLIGHT
TZNAME:CDT
DTSTART:20250309T020000
TZOFFSETFROM:-0600
TZOFFSETTO:-0500
RDATE:20260308T020000
END:DAYLIGHT
END:VTIMEZONE
BEGIN:VEVENT
UID:ab6efdc4-5020-47d9-9211-6db53a06e5a3
DTSTAMP:20260423T181001Z
DESCRIPTION:Monthly Board Meeting
DTSTART;TZID=America/Chicago:20250502T183000
DTEND;TZID=America/Chicago:20250502T200000
LOCATION:Atrium Meeting Room
SUMMARY:Board Meeting
END:VEVENT
END:VCALENDAR
