BEGIN:VCALENDAR
VERSION:2.0
PRODID:-//haven.firespring.org//NONSGML kigkonsult.se iCalcreator 2.30.10//
CALSCALE:GREGORIAN
METHOD:PUBLISH
UID:59ff1a55-20a8-4d08-9cc2-c3ee47f58160
X-WR-CALDESC:Monthly Board Meeting
X-WR-RELCALID:d1924bbb4147b7778e963feecbe96634
X-WR-TIMEZONE:America/Chicago
BEGIN:VTIMEZONE
TZID:America/Chicago
BEGIN:STANDARD
TZNAME:CST
DTSTART:20241103T020000
TZOFFSETFROM:-0500
TZOFFSETTO:-0600
RDATE:20251102T020000
END:STANDARD
BEGIN:DAYLIGHT
TZNAME:CDT
DTSTART:20240310T020000
TZOFFSETFROM:-0600
TZOFFSETTO:-0500
RDATE:20250309T020000
RDATE:20260308T020000
END:DAYLIGHT
END:VTIMEZONE
BEGIN:VEVENT
UID:f9eb4f1e-1b57-4cba-99f2-9447c7b736f9
DTSTAMP:20260423T213153Z
DESCRIPTION:Monthly Board Meeting
DTSTART;TZID=America/Chicago:20250307T183000
DTEND;TZID=America/Chicago:20250307T200000
LOCATION:Atrium Meeting Room
SUMMARY:Board Meeting
END:VEVENT
END:VCALENDAR
