BEGIN:VCALENDAR
VERSION:2.0
PRODID:-//haven.firespring.org//NONSGML kigkonsult.se iCalcreator 2.30.10//
CALSCALE:GREGORIAN
METHOD:PUBLISH
UID:e3940985-3646-455f-b957-b57482583249
X-WR-CALDESC:Monthly Board Meeting
X-WR-RELCALID:aaa15e476a00790e976ecf9a9ea97930
X-WR-TIMEZONE:America/Chicago
BEGIN:VTIMEZONE
TZID:America/Chicago
BEGIN:STANDARD
TZNAME:CST
DTSTART:20221106T020000
TZOFFSETFROM:-0500
TZOFFSETTO:-0600
RDATE:20231105T020000
END:STANDARD
BEGIN:DAYLIGHT
TZNAME:CDT
DTSTART:20220313T020000
TZOFFSETFROM:-0600
TZOFFSETTO:-0500
RDATE:20230312T020000
RDATE:20240310T020000
END:DAYLIGHT
END:VTIMEZONE
BEGIN:VEVENT
UID:0f6a75e0-4431-4e4f-ac6c-6d9ac3a0ca23
DTSTAMP:20260422T051625Z
DESCRIPTION:Monthly Board Meeting
DTSTART;TZID=America/Chicago:20230203T183000
DTEND;TZID=America/Chicago:20230203T200000
LOCATION:Atrium Meeting Room
SUMMARY:Board Meeting
END:VEVENT
END:VCALENDAR
