BEGIN:VCALENDAR
VERSION:2.0
PRODID:-//haven.firespring.org//NONSGML kigkonsult.se iCalcreator 2.30.10//
CALSCALE:GREGORIAN
METHOD:PUBLISH
UID:5ed2cd0a-7b7b-44f8-8ddb-916e188ce1e2
X-WR-CALDESC:Monthly Board Meeting
X-WR-RELCALID:495a9dbed8c5352c42344c7853be738a
X-WR-TIMEZONE:America/Chicago
BEGIN:VTIMEZONE
TZID:America/Chicago
BEGIN:STANDARD
TZNAME:CST
DTSTART:20221106T020000
TZOFFSETFROM:-0500
TZOFFSETTO:-0600
RDATE:20231105T020000
END:STANDARD
BEGIN:DAYLIGHT
TZNAME:CDT
DTSTART:20220313T020000
TZOFFSETFROM:-0600
TZOFFSETTO:-0500
RDATE:20230312T020000
RDATE:20240310T020000
END:DAYLIGHT
END:VTIMEZONE
BEGIN:VEVENT
UID:daa4664c-803f-4e0a-a307-5837528c9243
DTSTAMP:20260422T033733Z
DESCRIPTION:Monthly Board Meeting
DTSTART;TZID=America/Chicago:20230106T183000
DTEND;TZID=America/Chicago:20230106T200000
LOCATION:Atrium Meeting Room
SUMMARY:Board Meeting
END:VEVENT
END:VCALENDAR
