BEGIN:VCALENDAR
VERSION:2.0
PRODID:-//haven.firespring.org//NONSGML kigkonsult.se iCalcreator 2.30.10//
CALSCALE:GREGORIAN
METHOD:PUBLISH
UID:12423d31-70d5-45b8-84ea-02c84f7e7b43
X-WR-CALDESC:Monthly Board Meeting
X-WR-RELCALID:eeef3d0b51313f9aa6951adb6b52ce74
X-WR-TIMEZONE:America/Chicago
BEGIN:VTIMEZONE
TZID:America/Chicago
BEGIN:STANDARD
TZNAME:CST
DTSTART:20221106T020000
TZOFFSETFROM:-0500
TZOFFSETTO:-0600
RDATE:20231105T020000
END:STANDARD
BEGIN:DAYLIGHT
TZNAME:CDT
DTSTART:20220313T020000
TZOFFSETFROM:-0600
TZOFFSETTO:-0500
RDATE:20230312T020000
RDATE:20240310T020000
END:DAYLIGHT
END:VTIMEZONE
BEGIN:VEVENT
UID:10587aa1-647d-439d-a445-7b89df114f35
DTSTAMP:20260422T021958Z
DESCRIPTION:Monthly Board Meeting
DTSTART;TZID=America/Chicago:20221202T183000
DTEND;TZID=America/Chicago:20221202T200000
LOCATION:Atrium Meeting Room
SUMMARY:Board Meeting
END:VEVENT
END:VCALENDAR
