BEGIN:VCALENDAR
VERSION:2.0
PRODID:-//haven.firespring.org//NONSGML kigkonsult.se iCalcreator 2.30.10//
CALSCALE:GREGORIAN
METHOD:PUBLISH
UID:28fc80d2-fc48-4d3d-be45-c32df880c0dc
X-WR-CALDESC:Monthly Board Meeting
X-WR-RELCALID:a2e9c95282deb6943b619ca0a7b4295e
X-WR-TIMEZONE:America/Chicago
BEGIN:VTIMEZONE
TZID:America/Chicago
BEGIN:STANDARD
TZNAME:CST
DTSTART:20211107T020000
TZOFFSETFROM:-0500
TZOFFSETTO:-0600
RDATE:20221106T020000
RDATE:20231105T020000
END:STANDARD
BEGIN:DAYLIGHT
TZNAME:CDT
DTSTART:20220313T020000
TZOFFSETFROM:-0600
TZOFFSETTO:-0500
RDATE:20230312T020000
RDATE:20240310T020000
END:DAYLIGHT
END:VTIMEZONE
BEGIN:VEVENT
UID:10a4f1b7-1fd5-4003-9495-7867e6e158c9
DTSTAMP:20260422T003033Z
DESCRIPTION:Monthly Board Meeting
DTSTART;TZID=America/Chicago:20221104T183000
DTEND;TZID=America/Chicago:20221104T200000
LOCATION:Atrium Meeting Room
SUMMARY:Board Meeting
END:VEVENT
END:VCALENDAR
