BEGIN:VCALENDAR
VERSION:2.0
PRODID:-//haven.firespring.org//NONSGML kigkonsult.se iCalcreator 2.30.10//
CALSCALE:GREGORIAN
METHOD:PUBLISH
UID:c9cff271-1003-47e5-9ed7-736dd15a9637
X-WR-CALDESC:Monthly Board Meeting
X-WR-RELCALID:33dfa196d20b5b42bbf4f61cf407abbb
X-WR-TIMEZONE:America/Chicago
BEGIN:VTIMEZONE
TZID:America/Chicago
BEGIN:STANDARD
TZNAME:CST
DTSTART:20211107T020000
TZOFFSETFROM:-0500
TZOFFSETTO:-0600
RDATE:20221106T020000
RDATE:20231105T020000
END:STANDARD
BEGIN:DAYLIGHT
TZNAME:CDT
DTSTART:20220313T020000
TZOFFSETFROM:-0600
TZOFFSETTO:-0500
RDATE:20230312T020000
RDATE:20240310T020000
END:DAYLIGHT
END:VTIMEZONE
BEGIN:VEVENT
UID:12fe6af8-3a6b-48ab-8552-f83acfb3aaaf
DTSTAMP:20260421T230634Z
DESCRIPTION:Monthly Board Meeting
DTSTART;TZID=America/Chicago:20221007T183000
DTEND;TZID=America/Chicago:20221007T200000
LOCATION:Atrium Meeting Room
SUMMARY:Board Meeting
END:VEVENT
END:VCALENDAR
