BEGIN:VCALENDAR
VERSION:2.0
PRODID:-//haven.firespring.org//NONSGML kigkonsult.se iCalcreator 2.30.10//
CALSCALE:GREGORIAN
METHOD:PUBLISH
UID:5621677e-724c-4a1b-bab8-abad43e7aee7
X-WR-CALDESC:Monthly Board Meeting
X-WR-RELCALID:062d41247f4d5dab25f82c87d30681d6
X-WR-TIMEZONE:America/Chicago
BEGIN:VTIMEZONE
TZID:America/Chicago
BEGIN:STANDARD
TZNAME:CST
DTSTART:20211107T020000
TZOFFSETFROM:-0500
TZOFFSETTO:-0600
RDATE:20221106T020000
RDATE:20231105T020000
END:STANDARD
BEGIN:DAYLIGHT
TZNAME:CDT
DTSTART:20220313T020000
TZOFFSETFROM:-0600
TZOFFSETTO:-0500
RDATE:20230312T020000
END:DAYLIGHT
END:VTIMEZONE
BEGIN:VEVENT
UID:06474b75-2a65-4061-baa1-3f0ad87f8f5b
DTSTAMP:20260421T214645Z
DESCRIPTION:Monthly Board Meeting
DTSTART;TZID=America/Chicago:20220902T183000
DTEND;TZID=America/Chicago:20220902T200000
LOCATION:Atrium Meeting Room
SUMMARY:Board Meeting
END:VEVENT
END:VCALENDAR
