BEGIN:VCALENDAR
VERSION:2.0
PRODID:-//haven.firespring.org//NONSGML kigkonsult.se iCalcreator 2.30.10//
CALSCALE:GREGORIAN
METHOD:PUBLISH
UID:cb32d16f-3715-406b-817b-5f211861cf58
X-WR-CALDESC:Monthly Board Meeting
X-WR-RELCALID:6b236ff95822066260d0d1a29f7a4802
X-WR-TIMEZONE:America/Chicago
BEGIN:VTIMEZONE
TZID:America/Chicago
BEGIN:STANDARD
TZNAME:CST
DTSTART:20211107T020000
TZOFFSETFROM:-0500
TZOFFSETTO:-0600
RDATE:20221106T020000
RDATE:20231105T020000
END:STANDARD
BEGIN:DAYLIGHT
TZNAME:CDT
DTSTART:20220313T020000
TZOFFSETFROM:-0600
TZOFFSETTO:-0500
RDATE:20230312T020000
END:DAYLIGHT
END:VTIMEZONE
BEGIN:VEVENT
UID:34fb6833-fe40-48ed-a382-4ede45e7c7b4
DTSTAMP:20260421T200702Z
DESCRIPTION:Monthly Board Meeting
DTSTART;TZID=America/Chicago:20220805T183000
DTEND;TZID=America/Chicago:20220805T200000
LOCATION:Atrium Meeting Room
SUMMARY:Board Meeting
END:VEVENT
END:VCALENDAR
