BEGIN:VCALENDAR
VERSION:2.0
PRODID:-//haven.firespring.org//NONSGML kigkonsult.se iCalcreator 2.30.10//
CALSCALE:GREGORIAN
METHOD:PUBLISH
UID:e4285f2d-52d5-467d-bd99-8fef4d8a0a85
X-WR-CALDESC:Monthly Board Meeting
X-WR-RELCALID:cadcec0072c9e2c58eff5917efff02e1
X-WR-TIMEZONE:America/Chicago
BEGIN:VTIMEZONE
TZID:America/Chicago
BEGIN:STANDARD
TZNAME:CST
DTSTART:20211107T020000
TZOFFSETFROM:-0500
TZOFFSETTO:-0600
RDATE:20221106T020000
RDATE:20231105T020000
END:STANDARD
BEGIN:DAYLIGHT
TZNAME:CDT
DTSTART:20220313T020000
TZOFFSETFROM:-0600
TZOFFSETTO:-0500
RDATE:20230312T020000
END:DAYLIGHT
END:VTIMEZONE
BEGIN:VEVENT
UID:bd42d6f5-aed9-4d39-92b7-0fa004735ff2
DTSTAMP:20260421T215354Z
DESCRIPTION:Monthly Board Meeting
DTSTART;TZID=America/Chicago:20220701T183000
DTEND;TZID=America/Chicago:20220701T200000
LOCATION:Atrium Meeting Room
SUMMARY:Board Meeting
END:VEVENT
END:VCALENDAR
