BEGIN:VCALENDAR
VERSION:2.0
PRODID:-//haven.firespring.org//NONSGML kigkonsult.se iCalcreator 2.30.10//
CALSCALE:GREGORIAN
METHOD:PUBLISH
UID:f12c4570-e65b-41b9-8ad1-5a84b9b22bd4
X-WR-CALDESC:Monthly Board Meeting
X-WR-RELCALID:638c111cf4f03ecb6f9667092e9edab9
X-WR-TIMEZONE:America/Chicago
BEGIN:VTIMEZONE
TZID:America/Chicago
BEGIN:STANDARD
TZNAME:CST
DTSTART:20211107T020000
TZOFFSETFROM:-0500
TZOFFSETTO:-0600
RDATE:20221106T020000
RDATE:20231105T020000
END:STANDARD
BEGIN:DAYLIGHT
TZNAME:CDT
DTSTART:20220313T020000
TZOFFSETFROM:-0600
TZOFFSETTO:-0500
RDATE:20230312T020000
END:DAYLIGHT
END:VTIMEZONE
BEGIN:VEVENT
UID:bd282c8f-cd08-4572-8301-9b1e7a237d68
DTSTAMP:20260421T235303Z
DESCRIPTION:Monthly Board Meeting
DTSTART;TZID=America/Chicago:20220603T183000
DTEND;TZID=America/Chicago:20220603T200000
LOCATION:Atrium Meeting Room
SUMMARY:Board Meeting
END:VEVENT
END:VCALENDAR
