BEGIN:VCALENDAR
VERSION:2.0
PRODID:-//haven.firespring.org//NONSGML kigkonsult.se iCalcreator 2.30.10//
CALSCALE:GREGORIAN
METHOD:PUBLISH
UID:1c56b3b1-1253-4731-b547-c62d6ba1172f
X-WR-CALDESC:Monthly Board Meeting
X-WR-RELCALID:dbb60c6a8000e3dbe5badb646dad7f90
X-WR-TIMEZONE:America/Chicago
BEGIN:VTIMEZONE
TZID:America/Chicago
BEGIN:STANDARD
TZNAME:CST
DTSTART:20211107T020000
TZOFFSETFROM:-0500
TZOFFSETTO:-0600
RDATE:20221106T020000
RDATE:20231105T020000
END:STANDARD
BEGIN:DAYLIGHT
TZNAME:CDT
DTSTART:20220313T020000
TZOFFSETFROM:-0600
TZOFFSETTO:-0500
RDATE:20230312T020000
END:DAYLIGHT
END:VTIMEZONE
BEGIN:VEVENT
UID:d5de26dc-dcf8-4adb-b8b2-1ff25fdc11f4
DTSTAMP:20260422T005040Z
DESCRIPTION:Monthly Board Meeting
DTSTART;TZID=America/Chicago:20220506T183000
DTEND;TZID=America/Chicago:20220506T200000
LOCATION:Atrium Meeting Room
SUMMARY:Board Meeting
END:VEVENT
END:VCALENDAR
