BEGIN:VCALENDAR
VERSION:2.0
PRODID:-//haven.firespring.org//NONSGML kigkonsult.se iCalcreator 2.30.10//
CALSCALE:GREGORIAN
METHOD:PUBLISH
UID:441d087e-81f9-484a-98b1-c84a00ec1e2f
X-WR-CALDESC:Monthly Board Meeting
X-WR-RELCALID:0299e43df39d103a304c1267b79815d8
X-WR-TIMEZONE:America/Chicago
BEGIN:VTIMEZONE
TZID:America/Chicago
BEGIN:STANDARD
TZNAME:CST
DTSTART:20211107T020000
TZOFFSETFROM:-0500
TZOFFSETTO:-0600
RDATE:20221106T020000
END:STANDARD
BEGIN:DAYLIGHT
TZNAME:CDT
DTSTART:20220313T020000
TZOFFSETFROM:-0600
TZOFFSETTO:-0500
RDATE:20230312T020000
END:DAYLIGHT
END:VTIMEZONE
BEGIN:VEVENT
UID:23c8cb76-392b-4938-804b-9c8f739e235d
DTSTAMP:20260422T025031Z
DESCRIPTION:Monthly Board Meeting
DTSTART;TZID=America/Chicago:20220401T183000
DTEND;TZID=America/Chicago:20220401T200000
LOCATION:Atrium Meeting Room
SUMMARY:Board Meeting
END:VEVENT
END:VCALENDAR
