BEGIN:VCALENDAR
VERSION:2.0
PRODID:-//haven.firespring.org//NONSGML kigkonsult.se iCalcreator 2.30.10//
CALSCALE:GREGORIAN
METHOD:PUBLISH
UID:f2ee268b-7df3-4bdc-9397-b30fb688178b
X-WR-CALDESC:Monthly Board Meeting
X-WR-RELCALID:bbfda043dfa71aa65fe177527c4b145e
X-WR-TIMEZONE:America/Chicago
BEGIN:VTIMEZONE
TZID:America/Chicago
BEGIN:STANDARD
TZNAME:CST
DTSTART:20211107T020000
TZOFFSETFROM:-0500
TZOFFSETTO:-0600
RDATE:20221106T020000
END:STANDARD
BEGIN:DAYLIGHT
TZNAME:CDT
DTSTART:20210314T020000
TZOFFSETFROM:-0600
TZOFFSETTO:-0500
RDATE:20220313T020000
RDATE:20230312T020000
END:DAYLIGHT
END:VTIMEZONE
BEGIN:VEVENT
UID:74e919ed-24a2-47b0-9761-0408c9801333
DTSTAMP:20260422T040058Z
DESCRIPTION:Monthly Board Meeting
DTSTART;TZID=America/Chicago:20220304T183000
DTEND;TZID=America/Chicago:20220304T200000
LOCATION:Atrium Meeting Room
SUMMARY:Board Meeting
END:VEVENT
END:VCALENDAR
