BEGIN:VCALENDAR
VERSION:2.0
PRODID:-//haven.firespring.org//NONSGML kigkonsult.se iCalcreator 2.30.10//
CALSCALE:GREGORIAN
METHOD:PUBLISH
UID:4d7e6164-93d2-462b-84c3-832f5b41afe8
X-WR-CALDESC:Monthly Board Meeting
X-WR-RELCALID:f03c2043f93f0c43a400a5558a80fad9
X-WR-TIMEZONE:America/Chicago
BEGIN:VTIMEZONE
TZID:America/Chicago
BEGIN:STANDARD
TZNAME:CST
DTSTART:20211107T020000
TZOFFSETFROM:-0500
TZOFFSETTO:-0600
RDATE:20221106T020000
END:STANDARD
BEGIN:DAYLIGHT
TZNAME:CDT
DTSTART:20210314T020000
TZOFFSETFROM:-0600
TZOFFSETTO:-0500
RDATE:20220313T020000
RDATE:20230312T020000
END:DAYLIGHT
END:VTIMEZONE
BEGIN:VEVENT
UID:658f127d-ba84-430a-9875-76f82a03e00f
DTSTAMP:20260422T060931Z
DESCRIPTION:Monthly Board Meeting
DTSTART;TZID=America/Chicago:20220204T183000
DTEND;TZID=America/Chicago:20220204T200000
LOCATION:Atrium Meeting Room
SUMMARY:Board Meeting
END:VEVENT
END:VCALENDAR
