BEGIN:VCALENDAR
VERSION:2.0
PRODID:-//haven.firespring.org//NONSGML kigkonsult.se iCalcreator 2.30.10//
CALSCALE:GREGORIAN
METHOD:PUBLISH
UID:c3d55321-ef3f-4f02-ae3e-35deb3eef142
X-WR-CALDESC:Monthly Board Meeting
X-WR-RELCALID:0a611408f49fc1ef37c9ac1f391852d8
X-WR-TIMEZONE:America/Chicago
BEGIN:VTIMEZONE
TZID:America/Chicago
BEGIN:STANDARD
TZNAME:CST
DTSTART:20211107T020000
TZOFFSETFROM:-0500
TZOFFSETTO:-0600
RDATE:20221106T020000
END:STANDARD
BEGIN:DAYLIGHT
TZNAME:CDT
DTSTART:20210314T020000
TZOFFSETFROM:-0600
TZOFFSETTO:-0500
RDATE:20220313T020000
RDATE:20230312T020000
END:DAYLIGHT
END:VTIMEZONE
BEGIN:VEVENT
UID:2d651bc3-2b65-4730-9b9f-ebc1990dee08
DTSTAMP:20260422T071656Z
DESCRIPTION:Monthly Board Meeting
DTSTART;TZID=America/Chicago:20220107T183000
DTEND;TZID=America/Chicago:20220107T200000
LOCATION:Atrium Meeting Room
SUMMARY:Board Meeting
END:VEVENT
END:VCALENDAR
