BEGIN:VCALENDAR
VERSION:2.0
PRODID:-//haven.firespring.org//NONSGML kigkonsult.se iCalcreator 2.30.10//
CALSCALE:GREGORIAN
METHOD:PUBLISH
UID:59e35a3c-c628-45c1-8201-77a0dd8f5739
X-WR-CALDESC:Monthly Board Meeting
X-WR-RELCALID:263614813acb64f797605cc05e1fb3ea
X-WR-TIMEZONE:America/Chicago
BEGIN:VTIMEZONE
TZID:America/Chicago
BEGIN:STANDARD
TZNAME:CST
DTSTART:20211107T020000
TZOFFSETFROM:-0500
TZOFFSETTO:-0600
RDATE:20221106T020000
END:STANDARD
BEGIN:DAYLIGHT
TZNAME:CDT
DTSTART:20210314T020000
TZOFFSETFROM:-0600
TZOFFSETTO:-0500
RDATE:20220313T020000
RDATE:20230312T020000
END:DAYLIGHT
END:VTIMEZONE
BEGIN:VEVENT
UID:0084ee94-9cba-44a8-928e-bfa4cb424c80
DTSTAMP:20260422T103337Z
DESCRIPTION:Monthly Board Meeting
DTSTART;TZID=America/Chicago:20211105T183000
DTEND;TZID=America/Chicago:20211105T200000
LOCATION:Atrium Meeting Room
SUMMARY:Board Meeting
END:VEVENT
END:VCALENDAR
