BEGIN:VCALENDAR
VERSION:2.0
PRODID:-//haven.firespring.org//NONSGML kigkonsult.se iCalcreator 2.30.10//
CALSCALE:GREGORIAN
METHOD:PUBLISH
UID:d9740250-3943-4118-bde1-7ff3eafc4d62
X-WR-CALDESC:Monthly Board Meeting
X-WR-RELCALID:1731678e3649908c3d56b90d6e68565e
X-WR-TIMEZONE:America/Chicago
BEGIN:VTIMEZONE
TZID:America/Chicago
BEGIN:STANDARD
TZNAME:CST
DTSTART:20201101T020000
TZOFFSETFROM:-0500
TZOFFSETTO:-0600
RDATE:20211107T020000
RDATE:20221106T020000
END:STANDARD
BEGIN:DAYLIGHT
TZNAME:CDT
DTSTART:20210314T020000
TZOFFSETFROM:-0600
TZOFFSETTO:-0500
RDATE:20220313T020000
RDATE:20230312T020000
END:DAYLIGHT
END:VTIMEZONE
BEGIN:VEVENT
UID:fe08802d-a7b5-45f1-9bc9-4dba5c17ba08
DTSTAMP:20260422T122105Z
DESCRIPTION:Monthly Board Meeting
DTSTART;TZID=America/Chicago:20211001T183000
DTEND;TZID=America/Chicago:20211001T200000
LOCATION:Atrium Meeting Room
SUMMARY:Board Meeting
END:VEVENT
END:VCALENDAR
