BEGIN:VCALENDAR
VERSION:2.0
PRODID:-//haven.firespring.org//NONSGML kigkonsult.se iCalcreator 2.30.10//
CALSCALE:GREGORIAN
METHOD:PUBLISH
UID:6c6fdfc2-ba4f-4f53-8e13-71bec36a2498
X-WR-CALDESC:Monthly Board Meeting
X-WR-RELCALID:5c4cbe25ecd52bd34e0ac361cb8b95e0
X-WR-TIMEZONE:America/Chicago
BEGIN:VTIMEZONE
TZID:America/Chicago
BEGIN:STANDARD
TZNAME:CST
DTSTART:20201101T020000
TZOFFSETFROM:-0500
TZOFFSETTO:-0600
RDATE:20211107T020000
RDATE:20221106T020000
END:STANDARD
BEGIN:DAYLIGHT
TZNAME:CDT
DTSTART:20210314T020000
TZOFFSETFROM:-0600
TZOFFSETTO:-0500
RDATE:20220313T020000
END:DAYLIGHT
END:VTIMEZONE
BEGIN:VEVENT
UID:87447fef-0aa0-48c7-a5ae-d7ec472e7df7
DTSTAMP:20260422T133818Z
DESCRIPTION:Monthly Board Meeting
DTSTART;TZID=America/Chicago:20210903T183000
DTEND;TZID=America/Chicago:20210903T200000
LOCATION:Atrium Meeting Room
SUMMARY:Board Meeting
END:VEVENT
END:VCALENDAR
