BEGIN:VCALENDAR
VERSION:2.0
PRODID:-//haven.firespring.org//NONSGML kigkonsult.se iCalcreator 2.30.10//
CALSCALE:GREGORIAN
METHOD:PUBLISH
UID:2eefdea2-4424-4577-b36f-3a3ae8910d23
X-WR-CALDESC:Monthly Board Meeting
X-WR-RELCALID:9e82170ded8ced503b6b6e3f69dd15fc
X-WR-TIMEZONE:America/Chicago
BEGIN:VTIMEZONE
TZID:America/Chicago
BEGIN:STANDARD
TZNAME:CST
DTSTART:20201101T020000
TZOFFSETFROM:-0500
TZOFFSETTO:-0600
RDATE:20211107T020000
RDATE:20221106T020000
END:STANDARD
BEGIN:DAYLIGHT
TZNAME:CDT
DTSTART:20210314T020000
TZOFFSETFROM:-0600
TZOFFSETTO:-0500
RDATE:20220313T020000
END:DAYLIGHT
END:VTIMEZONE
BEGIN:VEVENT
UID:096f0a1f-8784-4bca-b7d8-d8a48cf022bc
DTSTAMP:20260422T152744Z
DESCRIPTION:Monthly Board Meeting
DTSTART;TZID=America/Chicago:20210806T183000
DTEND;TZID=America/Chicago:20210806T200000
LOCATION:Atrium Meeting Room
SUMMARY:Board Meeting
END:VEVENT
END:VCALENDAR
