BEGIN:VCALENDAR
VERSION:2.0
PRODID:-//haven.firespring.org//NONSGML kigkonsult.se iCalcreator 2.30.10//
CALSCALE:GREGORIAN
METHOD:PUBLISH
UID:acf8d481-6485-4c79-a543-b238b031a317
X-WR-CALDESC:Monthly Board Meeting
X-WR-RELCALID:7623ea408bb2fdece66f0d34b1df87cb
X-WR-TIMEZONE:America/Chicago
BEGIN:VTIMEZONE
TZID:America/Chicago
BEGIN:STANDARD
TZNAME:CST
DTSTART:20201101T020000
TZOFFSETFROM:-0500
TZOFFSETTO:-0600
RDATE:20211107T020000
RDATE:20221106T020000
END:STANDARD
BEGIN:DAYLIGHT
TZNAME:CDT
DTSTART:20210314T020000
TZOFFSETFROM:-0600
TZOFFSETTO:-0500
RDATE:20220313T020000
END:DAYLIGHT
END:VTIMEZONE
BEGIN:VEVENT
UID:7572c5c4-0ad8-4782-80dc-7ccbe474d608
DTSTAMP:20260422T170444Z
DESCRIPTION:Monthly Board Meeting
DTSTART;TZID=America/Chicago:20210702T183000
DTEND;TZID=America/Chicago:20210702T200000
LOCATION:Atrium Meeting Room
SUMMARY:Board Meeting
END:VEVENT
END:VCALENDAR
