BEGIN:VCALENDAR
VERSION:2.0
PRODID:-//haven.firespring.org//NONSGML kigkonsult.se iCalcreator 2.30.10//
CALSCALE:GREGORIAN
METHOD:PUBLISH
UID:29b7b9e5-b43c-44e3-bed8-bef91071e764
X-WR-CALDESC:Monthly Board Meeting
X-WR-RELCALID:c386aaea66af1707656e15277af4af34
X-WR-TIMEZONE:America/Chicago
BEGIN:VTIMEZONE
TZID:America/Chicago
BEGIN:STANDARD
TZNAME:CST
DTSTART:20201101T020000
TZOFFSETFROM:-0500
TZOFFSETTO:-0600
RDATE:20211107T020000
RDATE:20221106T020000
END:STANDARD
BEGIN:DAYLIGHT
TZNAME:CDT
DTSTART:20210314T020000
TZOFFSETFROM:-0600
TZOFFSETTO:-0500
RDATE:20220313T020000
END:DAYLIGHT
END:VTIMEZONE
BEGIN:VEVENT
UID:cb3b03a6-eb60-4df1-8c3a-bcfafddbecb0
DTSTAMP:20260424T113209Z
DESCRIPTION:Monthly Board Meeting
DTSTART;TZID=America/Chicago:20210604T183000
DTEND;TZID=America/Chicago:20210604T200000
LOCATION:Atrium Meeting Room
SUMMARY:Board Meeting
END:VEVENT
END:VCALENDAR
