BEGIN:VCALENDAR
VERSION:2.0
PRODID:-//haven.firespring.org//NONSGML kigkonsult.se iCalcreator 2.30.10//
CALSCALE:GREGORIAN
METHOD:PUBLISH
UID:a6e3a1d9-6431-4dc7-bc37-09e5a613eaa9
X-WR-CALDESC:Monthly Board Meeting
X-WR-RELCALID:7e89b24bb09ec786beeda7d0825b62f1
X-WR-TIMEZONE:America/Chicago
BEGIN:VTIMEZONE
TZID:America/Chicago
BEGIN:STANDARD
TZNAME:CST
DTSTART:20201101T020000
TZOFFSETFROM:-0500
TZOFFSETTO:-0600
RDATE:20211107T020000
RDATE:20221106T020000
END:STANDARD
BEGIN:DAYLIGHT
TZNAME:CDT
DTSTART:20210314T020000
TZOFFSETFROM:-0600
TZOFFSETTO:-0500
RDATE:20220313T020000
END:DAYLIGHT
END:VTIMEZONE
BEGIN:VEVENT
UID:7e1a7fd2-d025-4dc0-8ed9-b275dd6f4a22
DTSTAMP:20260424T125830Z
DESCRIPTION:Monthly Board Meeting
DTSTART;TZID=America/Chicago:20210507T183000
DTEND;TZID=America/Chicago:20210507T200000
LOCATION:Atrium Meeting Room
SUMMARY:Board Meeting
END:VEVENT
END:VCALENDAR
