BEGIN:VCALENDAR
VERSION:2.0
PRODID:-//haven.firespring.org//NONSGML kigkonsult.se iCalcreator 2.30.10//
CALSCALE:GREGORIAN
METHOD:PUBLISH
UID:10ba0903-d352-42d6-b7d0-3254a4c8a7bb
X-WR-CALDESC:Monthly Board Meeting
X-WR-RELCALID:9bebc180ba458e3b4c2662aec7dbdcde
X-WR-TIMEZONE:America/Chicago
BEGIN:VTIMEZONE
TZID:America/Chicago
BEGIN:STANDARD
TZNAME:CST
DTSTART:20201101T020000
TZOFFSETFROM:-0500
TZOFFSETTO:-0600
RDATE:20211107T020000
END:STANDARD
BEGIN:DAYLIGHT
TZNAME:CDT
DTSTART:20210314T020000
TZOFFSETFROM:-0600
TZOFFSETTO:-0500
RDATE:20220313T020000
END:DAYLIGHT
END:VTIMEZONE
BEGIN:VEVENT
UID:22b27b68-6360-4902-a6cc-44ecac57f6da
DTSTAMP:20260424T144952Z
DESCRIPTION:Monthly Board Meeting
DTSTART;TZID=America/Chicago:20210402T183000
DTEND;TZID=America/Chicago:20210402T200000
LOCATION:Atrium Meeting Room
SUMMARY:Board Meeting
END:VEVENT
END:VCALENDAR
