BEGIN:VCALENDAR
VERSION:2.0
PRODID:-//haven.firespring.org//NONSGML kigkonsult.se iCalcreator 2.30.10//
CALSCALE:GREGORIAN
METHOD:PUBLISH
UID:87bcaaa5-8b0e-49d8-abd7-caf7cf7ae82a
X-WR-CALDESC:Monthly Board Meeting
X-WR-RELCALID:090ab998f5c61150d1a9b53bf96a0914
X-WR-TIMEZONE:America/Chicago
BEGIN:VTIMEZONE
TZID:America/Chicago
BEGIN:STANDARD
TZNAME:CST
DTSTART:20201101T020000
TZOFFSETFROM:-0500
TZOFFSETTO:-0600
RDATE:20211107T020000
END:STANDARD
BEGIN:DAYLIGHT
TZNAME:CDT
DTSTART:20200308T020000
TZOFFSETFROM:-0600
TZOFFSETTO:-0500
RDATE:20210314T020000
RDATE:20220313T020000
END:DAYLIGHT
END:VTIMEZONE
BEGIN:VEVENT
UID:ea326c8c-8d38-4152-973b-31217eac158f
DTSTAMP:20260424T174550Z
DESCRIPTION:Monthly Board Meeting
DTSTART;TZID=America/Chicago:20210205T183000
DTEND;TZID=America/Chicago:20210205T200000
LOCATION:Atrium Meeting Room
SUMMARY:Board Meeting
END:VEVENT
END:VCALENDAR
