BEGIN:VCALENDAR
VERSION:2.0
PRODID:-//haven.firespring.org//NONSGML kigkonsult.se iCalcreator 2.30.10//
CALSCALE:GREGORIAN
METHOD:PUBLISH
UID:b3c82bc6-22de-4193-a409-30e1640155a1
X-WR-CALDESC:Monthly Board Meeting
X-WR-RELCALID:3ef8892e4891d31cfd8ba5462bad95d0
X-WR-TIMEZONE:America/Chicago
BEGIN:VTIMEZONE
TZID:America/Chicago
BEGIN:STANDARD
TZNAME:CST
DTSTART:20191103T020000
TZOFFSETFROM:-0500
TZOFFSETTO:-0600
RDATE:20201101T020000
RDATE:20211107T020000
END:STANDARD
BEGIN:DAYLIGHT
TZNAME:CDT
DTSTART:20200308T020000
TZOFFSETFROM:-0600
TZOFFSETTO:-0500
RDATE:20210314T020000
END:DAYLIGHT
END:VTIMEZONE
BEGIN:VEVENT
UID:0902dd30-90ac-4004-8ac6-846a33a84c8e
DTSTAMP:20260425T024828Z
DESCRIPTION:Monthly Board Meeting
DTSTART;TZID=America/Chicago:20200807T183000
DTEND;TZID=America/Chicago:20200807T200000
LOCATION:Atrium Meeting Room
SUMMARY:Board Meeting
END:VEVENT
END:VCALENDAR
